BEGIN:VCALENDAR
VERSION:2.0
PRODID:-//Quentin STEM Academy for Health Sciences - ECPv6.15.17.1//NONSGML v1.0//EN
CALSCALE:GREGORIAN
METHOD:PUBLISH
X-WR-CALNAME:Quentin STEM Academy for Health Sciences
X-ORIGINAL-URL:https://ques.littletonaz.org
X-WR-CALDESC:Events for Quentin STEM Academy for Health Sciences
REFRESH-INTERVAL;VALUE=DURATION:PT1H
X-Robots-Tag:noindex
X-PUBLISHED-TTL:PT1H
BEGIN:VTIMEZONE
TZID:America/Phoenix
BEGIN:STANDARD
TZOFFSETFROM:-0700
TZOFFSETTO:-0700
TZNAME:MST
DTSTART:20230101T000000
END:STANDARD
END:VTIMEZONE
BEGIN:VEVENT
DTSTART;TZID=America/Phoenix:20260423T170000
DTEND;TZID=America/Phoenix:20260423T180000
DTSTAMP:20260424T043200
CREATED:20260227T211905Z
LAST-MODIFIED:20260227T211905Z
UID:10000430-1776963600-1776967200@ques.littletonaz.org
SUMMARY:Talent Show
DESCRIPTION:
URL:https://ques.littletonaz.org/calendar-event/talent-show
LOCATION:Cafeteria
END:VEVENT
BEGIN:VEVENT
DTSTART;TZID=America/Phoenix:20260203T143000
DTEND;TZID=America/Phoenix:20260203T150000
DTSTAMP:20260424T043200
CREATED:20260113T192400Z
LAST-MODIFIED:20260113T192400Z
UID:10000346-1770129000-1770130800@ques.littletonaz.org
SUMMARY:7th–8th Grade Shark of the Month
DESCRIPTION:
URL:https://ques.littletonaz.org/calendar-event/7th-8th-grade-shark-of-the-month
LOCATION:Cafeteria
END:VEVENT
BEGIN:VEVENT
DTSTART;TZID=America/Phoenix:20260203T133000
DTEND;TZID=America/Phoenix:20260203T140000
DTSTAMP:20260424T043200
CREATED:20260113T192306Z
LAST-MODIFIED:20260113T192306Z
UID:10000345-1770125400-1770127200@ques.littletonaz.org
SUMMARY:5th–6th Grade Shark of the Month
DESCRIPTION:
URL:https://ques.littletonaz.org/calendar-event/5th-6th-grade-shark-of-the-month
LOCATION:Cafeteria
END:VEVENT
BEGIN:VEVENT
DTSTART;TZID=America/Phoenix:20260203T091500
DTEND;TZID=America/Phoenix:20260203T094500
DTSTAMP:20260424T043200
CREATED:20260113T192209Z
LAST-MODIFIED:20260113T192209Z
UID:10000344-1770110100-1770111900@ques.littletonaz.org
SUMMARY:K–4th Grade Shark of the Month
DESCRIPTION:
URL:https://ques.littletonaz.org/calendar-event/k-4th-grade-shark-of-the-month
LOCATION:Cafeteria
END:VEVENT
BEGIN:VEVENT
DTSTART;VALUE=DATE:20260106
DTEND;VALUE=DATE:20260107
DTSTAMP:20260424T043200
CREATED:20251202T024703Z
LAST-MODIFIED:20251202T024729Z
UID:10000341-1767657600-1767743999@ques.littletonaz.org
SUMMARY:Shark of the Month
DESCRIPTION:K-4th: 9:15–9:45 a.m.\n5th-6th: 1:30–2:00 p.m.\n7th-8th: 2:30–3:00 p.m.
URL:https://ques.littletonaz.org/calendar-event/shark-of-the-month-4
LOCATION:Cafeteria
END:VEVENT
BEGIN:VEVENT
DTSTART;VALUE=DATE:20251202
DTEND;VALUE=DATE:20251203
DTSTAMP:20260424T043200
CREATED:20251030T031723Z
LAST-MODIFIED:20251030T031723Z
UID:10000332-1764633600-1764719999@ques.littletonaz.org
SUMMARY:Shark of the Month
DESCRIPTION:K–4 – 9:15 to 9:45 a.m.\n5th–6th – 1:30 to 2:00 p.m.\n7th–8th – 2:30 to 3:00 p.m.
URL:https://ques.littletonaz.org/calendar-event/shark-of-the-month-3
LOCATION:Cafeteria
END:VEVENT
BEGIN:VEVENT
DTSTART;VALUE=DATE:20251120
DTEND;VALUE=DATE:20251121
DTSTAMP:20260424T043200
CREATED:20250930T210737Z
LAST-MODIFIED:20250930T210737Z
UID:10000328-1763596800-1763683199@ques.littletonaz.org
SUMMARY:Thanksgiving Luncheon
DESCRIPTION:
URL:https://ques.littletonaz.org/calendar-event/thanksgiving-luncheon
LOCATION:Cafeteria
END:VEVENT
BEGIN:VEVENT
DTSTART;VALUE=DATE:20251104
DTEND;VALUE=DATE:20251105
DTSTAMP:20260424T043200
CREATED:20250930T125615Z
LAST-MODIFIED:20250930T130019Z
UID:10000323-1762214400-1762300799@ques.littletonaz.org
SUMMARY:Shark of the Month
DESCRIPTION:K-4th – 9:15 to 9:45 a.m.\n5th-6th – 1:30 to 2:00 p.m.\n7th-8th – 2:30 to 3:00 p.m.
URL:https://ques.littletonaz.org/calendar-event/shark-of-the-month-in-cafeteria
LOCATION:Cafeteria
END:VEVENT
BEGIN:VEVENT
DTSTART;VALUE=DATE:20251014
DTEND;VALUE=DATE:20251015
DTSTAMP:20260424T043200
CREATED:20250903T013722Z
LAST-MODIFIED:20250903T013722Z
UID:10000316-1760400000-1760486399@ques.littletonaz.org
SUMMARY:Shark of the Month
DESCRIPTION:K–4th: 9:15 a.m.–9:45 a.m.\n5th–6th: 1:30 p.m.–2:00 p.m.\n7th–8th: 2:30 p.m.–3:00 p.m.
URL:https://ques.littletonaz.org/calendar-event/shark-of-the-month-2
LOCATION:Cafeteria
END:VEVENT
BEGIN:VEVENT
DTSTART;TZID=America/Phoenix:20250923T170000
DTEND;TZID=America/Phoenix:20250923T183000
DTSTAMP:20260424T043201
CREATED:20250806T041113Z
LAST-MODIFIED:20250806T041113Z
UID:10000313-1758646800-1758652200@ques.littletonaz.org
SUMMARY:Game Night
DESCRIPTION:
URL:https://ques.littletonaz.org/calendar-event/game-night
LOCATION:Cafeteria
END:VEVENT
BEGIN:VEVENT
DTSTART;TZID=America/Phoenix:20250910T080000
DTEND;TZID=America/Phoenix:20250910T083000
DTSTAMP:20260424T043201
CREATED:20250806T040545Z
LAST-MODIFIED:20250806T040545Z
UID:10000311-1757491200-1757493000@ques.littletonaz.org
SUMMARY:Pastries with Parents
DESCRIPTION:
URL:https://ques.littletonaz.org/calendar-event/pastries-with-parents
LOCATION:Cafeteria
END:VEVENT
BEGIN:VEVENT
DTSTART;VALUE=DATE:20250902
DTEND;VALUE=DATE:20250903
DTSTAMP:20260424T043201
CREATED:20250806T040426Z
LAST-MODIFIED:20250806T040426Z
UID:10000310-1756771200-1756857599@ques.littletonaz.org
SUMMARY:Shark of the Month
DESCRIPTION:Grades K–4: 9:15–9:45 a.m.\nGrades 5–6: 1:30–2:00 p.m.\nGrades 7–8: 2:30–3:00 p.m.
URL:https://ques.littletonaz.org/calendar-event/shark-of-the-month
LOCATION:Cafeteria
END:VEVENT
BEGIN:VEVENT
DTSTART;VALUE=DATE:20250506
DTEND;VALUE=DATE:20250507
DTSTAMP:20260424T043201
CREATED:20250502T010812Z
LAST-MODIFIED:20250502T011950Z
UID:10000277-1746489600-1746575999@ques.littletonaz.org
SUMMARY:True Blue Assembly
DESCRIPTION:K–4th Grades: 9:00–9:45 a.m.\n5th & 6th Grades: 10:00–10:45 a.m.\n7th & 8th Grades: 2:30–3:00 p.m.
URL:https://ques.littletonaz.org/calendar-event/true-blue-assembly-5
LOCATION:Cafeteria
END:VEVENT
BEGIN:VEVENT
DTSTART;TZID=America/Phoenix:20250429T170000
DTEND;TZID=America/Phoenix:20250429T170000
DTSTAMP:20260424T043201
CREATED:20250405T194851Z
LAST-MODIFIED:20250405T194851Z
UID:10000192-1745946000-1745946000@ques.littletonaz.org
SUMMARY:Talent Show Family Showcase
DESCRIPTION:
URL:https://ques.littletonaz.org/calendar-event/talent-show-family-showcase
LOCATION:Cafeteria
END:VEVENT
BEGIN:VEVENT
DTSTART;TZID=America/Phoenix:20250429T090000
DTEND;TZID=America/Phoenix:20250429T090000
DTSTAMP:20260424T043201
CREATED:20250405T194755Z
LAST-MODIFIED:20250405T194755Z
UID:10000191-1745917200-1745917200@ques.littletonaz.org
SUMMARY:Talent Show Viewing (6th–8th)
DESCRIPTION:
URL:https://ques.littletonaz.org/calendar-event/talent-show-viewing-6th-8th
LOCATION:Cafeteria
END:VEVENT
BEGIN:VEVENT
DTSTART;TZID=America/Phoenix:20250428T090000
DTEND;TZID=America/Phoenix:20250428T090000
DTSTAMP:20260424T043201
CREATED:20250405T194655Z
LAST-MODIFIED:20250405T194655Z
UID:10000190-1745830800-1745830800@ques.littletonaz.org
SUMMARY:Talent Show Viewing (K–5th)
DESCRIPTION:
URL:https://ques.littletonaz.org/calendar-event/talent-show-viewing-k-5th
LOCATION:Cafeteria
END:VEVENT
BEGIN:VEVENT
DTSTART;TZID=America/Phoenix:20241213T170000
DTEND;TZID=America/Phoenix:20241213T183000
DTSTAMP:20260424T043201
CREATED:20241203T164059Z
LAST-MODIFIED:20241203T164059Z
UID:10000140-1734109200-1734114600@ques.littletonaz.org
SUMMARY:STUCO Snowball Dance 6th–8th Grade
DESCRIPTION:
URL:https://ques.littletonaz.org/calendar-event/stuco-snowball-dance-6th-8th-grade
LOCATION:Cafeteria
END:VEVENT
BEGIN:VEVENT
DTSTART;TZID=America/Phoenix:20241203T143000
DTEND;TZID=America/Phoenix:20241203T150000
DTSTAMP:20260424T043201
CREATED:20241203T163749Z
LAST-MODIFIED:20241203T163749Z
UID:10000134-1733236200-1733238000@ques.littletonaz.org
SUMMARY:True Blue Assembly: 7th–8th Grade
DESCRIPTION:
URL:https://ques.littletonaz.org/calendar-event/true-blue-assembly-7th-8th-grade
LOCATION:Cafeteria
END:VEVENT
BEGIN:VEVENT
DTSTART;TZID=America/Phoenix:20241203T100000
DTEND;TZID=America/Phoenix:20241203T104500
DTSTAMP:20260424T043201
CREATED:20241203T163713Z
LAST-MODIFIED:20241203T163713Z
UID:10000133-1733220000-1733222700@ques.littletonaz.org
SUMMARY:True Blue Assembly: 5th–6th Grade
DESCRIPTION:
URL:https://ques.littletonaz.org/calendar-event/true-blue-assembly-5th-6th-grade
LOCATION:Cafeteria
END:VEVENT
BEGIN:VEVENT
DTSTART;TZID=America/Phoenix:20241203T090000
DTEND;TZID=America/Phoenix:20241203T094500
DTSTAMP:20260424T043201
CREATED:20241203T163632Z
LAST-MODIFIED:20241203T163632Z
UID:10000132-1733216400-1733219100@ques.littletonaz.org
SUMMARY:True Blue Assembly: K–4th Grade
DESCRIPTION:
URL:https://ques.littletonaz.org/calendar-event/true-blue-assembly-k-4th-grade
LOCATION:Cafeteria
END:VEVENT
BEGIN:VEVENT
DTSTART;VALUE=DATE:20241105
DTEND;VALUE=DATE:20241106
DTSTAMP:20260424T043201
CREATED:20241101T012438Z
LAST-MODIFIED:20241101T012438Z
UID:10000125-1730764800-1730851199@ques.littletonaz.org
SUMMARY:True Blue Assembly - Times Vary by Grade Level
DESCRIPTION:
URL:https://ques.littletonaz.org/calendar-event/true-blue-assembly-times-vary-by-grade-level
LOCATION:Cafeteria
END:VEVENT
BEGIN:VEVENT
DTSTART;VALUE=DATE:20240903
DTEND;VALUE=DATE:20240904
DTSTAMP:20260424T043201
CREATED:20240911T220724Z
LAST-MODIFIED:20240911T220724Z
UID:10000105-1725321600-1725407999@ques.littletonaz.org
SUMMARY:True Blue Assembly
DESCRIPTION:Times vary by grade level
URL:https://ques.littletonaz.org/calendar-event/true-blue-assembly
LOCATION:Cafeteria
END:VEVENT
END:VCALENDAR