BEGIN:VCALENDAR
VERSION:2.0
PRODID:-//Quentin STEM Academy for Health Sciences - ECPv6.15.17.1//NONSGML v1.0//EN
CALSCALE:GREGORIAN
METHOD:PUBLISH
X-ORIGINAL-URL:https://ques.littletonaz.org
X-WR-CALDESC:Events for Quentin STEM Academy for Health Sciences
REFRESH-INTERVAL;VALUE=DURATION:PT1H
X-Robots-Tag:noindex
X-PUBLISHED-TTL:PT1H
BEGIN:VTIMEZONE
TZID:America/Phoenix
BEGIN:STANDARD
TZOFFSETFROM:-0700
TZOFFSETTO:-0700
TZNAME:MST
DTSTART:20220101T000000
END:STANDARD
END:VTIMEZONE
BEGIN:VEVENT
DTSTART;TZID=America/Phoenix:20231003T180000
DTEND;TZID=America/Phoenix:20231003T180000
DTSTAMP:20260423T121459
CREATED:20230715T125243Z
LAST-MODIFIED:20230715T125243Z
UID:10000020-1696356000-1696356000@ques.littletonaz.org
SUMMARY:Governing Board Meeting
DESCRIPTION:
URL:https://ques.littletonaz.org/calendar-event/governing-board-meeting-6
END:VEVENT
BEGIN:VEVENT
DTSTART;VALUE=DATE:20231004
DTEND;VALUE=DATE:20231005
DTSTAMP:20260423T121459
CREATED:20230715T125442Z
LAST-MODIFIED:20230715T125442Z
UID:10000021-1696377600-1696463999@ques.littletonaz.org
SUMMARY:Early Release for Students
DESCRIPTION:
URL:https://ques.littletonaz.org/calendar-event/early-release-for-students-9
END:VEVENT
BEGIN:VEVENT
DTSTART;VALUE=DATE:20231005
DTEND;VALUE=DATE:20231007
DTSTAMP:20260423T121459
CREATED:20230715T125442Z
LAST-MODIFIED:20230715T125442Z
UID:10000022-1696464000-1696636799@ques.littletonaz.org
SUMMARY:Parent Conferences - Early Release
DESCRIPTION:
URL:https://ques.littletonaz.org/calendar-event/parent-conferences-early-release
END:VEVENT
BEGIN:VEVENT
DTSTART;VALUE=DATE:20231009
DTEND;VALUE=DATE:20231014
DTSTAMP:20260423T121459
CREATED:20230715T125443Z
LAST-MODIFIED:20230715T125443Z
UID:10000023-1696809600-1697241599@ques.littletonaz.org
SUMMARY:Fall Break - No School
DESCRIPTION:
URL:https://ques.littletonaz.org/calendar-event/fall-break-no-school
END:VEVENT
BEGIN:VEVENT
DTSTART;VALUE=DATE:20231018
DTEND;VALUE=DATE:20231019
DTSTAMP:20260423T121459
CREATED:20230715T125443Z
LAST-MODIFIED:20230715T125443Z
UID:10000024-1697587200-1697673599@ques.littletonaz.org
SUMMARY:Early Release for Students
DESCRIPTION:
URL:https://ques.littletonaz.org/calendar-event/early-release-for-students-10
END:VEVENT
BEGIN:VEVENT
DTSTART;TZID=America/Phoenix:20231018T073000
DTEND;TZID=America/Phoenix:20231018T140000
DTSTAMP:20260423T121459
CREATED:20230715T125443Z
LAST-MODIFIED:20230715T125443Z
UID:10000025-1697614200-1697637600@ques.littletonaz.org
SUMMARY:Child Find Screenings
DESCRIPTION:
URL:https://ques.littletonaz.org/calendar-event/child-find-screenings-3
END:VEVENT
BEGIN:VEVENT
DTSTART;TZID=America/Phoenix:20231024T180000
DTEND;TZID=America/Phoenix:20231024T180000
DTSTAMP:20260423T121459
CREATED:20230715T125530Z
LAST-MODIFIED:20230715T125530Z
UID:10000026-1698170400-1698170400@ques.littletonaz.org
SUMMARY:Governing Board Meeting
DESCRIPTION:
URL:https://ques.littletonaz.org/calendar-event/governing-board-meeting-7
END:VEVENT
BEGIN:VEVENT
DTSTART;VALUE=DATE:20231025
DTEND;VALUE=DATE:20231026
DTSTAMP:20260423T121459
CREATED:20230715T125530Z
LAST-MODIFIED:20230715T125530Z
UID:10000027-1698192000-1698278399@ques.littletonaz.org
SUMMARY:Early Release for Students
DESCRIPTION:
URL:https://ques.littletonaz.org/calendar-event/early-release-for-students-11
END:VEVENT
END:VCALENDAR